BEGIN:VCALENDAR
VERSION:2.0
PRODID:-//Empathic Way | Porozumienie bez Przemocy (NVC) w praktyce - ECPv6.15.17.1//NONSGML v1.0//EN
CALSCALE:GREGORIAN
METHOD:PUBLISH
X-WR-CALNAME:Empathic Way | Porozumienie bez Przemocy (NVC) w praktyce
X-ORIGINAL-URL:https://www.empathicway.pl
X-WR-CALDESC:Wydarzenia dla Empathic Way | Porozumienie bez Przemocy (NVC) w praktyce
REFRESH-INTERVAL;VALUE=DURATION:PT1H
X-Robots-Tag:noindex
X-PUBLISHED-TTL:PT1H
BEGIN:VTIMEZONE
TZID:Europe/Warsaw
BEGIN:DAYLIGHT
TZOFFSETFROM:+0100
TZOFFSETTO:+0200
TZNAME:CEST
DTSTART:20250330T010000
END:DAYLIGHT
BEGIN:STANDARD
TZOFFSETFROM:+0200
TZOFFSETTO:+0100
TZNAME:CET
DTSTART:20251026T010000
END:STANDARD
BEGIN:DAYLIGHT
TZOFFSETFROM:+0100
TZOFFSETTO:+0200
TZNAME:CEST
DTSTART:20260329T010000
END:DAYLIGHT
BEGIN:STANDARD
TZOFFSETFROM:+0200
TZOFFSETTO:+0100
TZNAME:CET
DTSTART:20261025T010000
END:STANDARD
BEGIN:DAYLIGHT
TZOFFSETFROM:+0100
TZOFFSETTO:+0200
TZNAME:CEST
DTSTART:20270328T010000
END:DAYLIGHT
BEGIN:STANDARD
TZOFFSETFROM:+0200
TZOFFSETTO:+0100
TZNAME:CET
DTSTART:20271031T010000
END:STANDARD
END:VTIMEZONE
BEGIN:VEVENT
DTSTART;TZID=Europe/Warsaw:20260424T100000
DTEND;TZID=Europe/Warsaw:20260424T110000
DTSTAMP:20260424T071347
CREATED:20260417T104824Z
LAST-MODIFIED:20260417T104932Z
UID:5265-1777024800-1777028400@www.empathicway.pl
SUMMARY:Mniej ocen\, więcej kontaktu – spotkanie z Łukaszem Bielińskim
DESCRIPTION:Co miesiąc do Portalu Empathic Way zapraszamy gości.W kwietniu\, w rozmowie z certyfikowanym trenerem NVC\, Łukaszem Bielińskim\, przyjrzymy się jednemu z kluczowych rozróżnień NVC\, jakim są Obserwacje vs Interpretacje. \nPodczas rozmowy poruszymy następujące tematy: \n\nCzy umiejętność odróżniania obserwacji od interpretacji może nas wspierać w unikaniu pułapek myślenia?\nJak trening odróżniania obserwacji od interpretacji może pomóc zwiększać elastyczność psychologiczną\, empatię oraz regulować emocje?\nDlaczego włączenie języka obserwacji do swojej codziennej komunikacji może zmniejszyć szanse na nieporozumienia oraz eskalację konfliktów z innymi ludźmi?\nJak praktykować umiejętność odróżniania obserwacji od interpretacji?\n\n  \nInformacje praktyczne\n\nKiedy: 24 kwietnia 2026 o godzinie 10:00\nKoszt: Webinar organizowany jest dla subskrybentów Portalu Empathic Way. Jeśli nie ma Cię jeszcze w Portalu\, a chcesz wziąć w nim udział\, wykup miesięczną subskrypcję\, która kosztuje w tej chwili 77 zł (możesz skorzystać z okresu próbnego – 14 dni za 14 zł). Szczegóły: https://portal.empathicway.pl/next/public/catalog/product/platforma-subskrypcyjna-nvc\nJak: Spotkamy się przy użyciu aplikacji ZOOM\, która umożliwia wszystkim uczestnikom widzenie się i słyszenie. Aby wziąć udział\, potrzebny Ci będzie komputer/smartfon z dostępem do internetu\, kamerą i mikrofonem. Przygotuj sobie również coś do pisania. Link do spotkania oraz instrukcję\, jak do niego dołączyć\, otrzymasz po zapisaniu się na ten webinar (sprawdź SPAM i folder OFERTY!).\nNagrywanie: To spotkanie będzie nagrywane i udostępnione wyłącznie osobom\, które mają wykupiony dostęp do Portalu Empathic Way. Jeśli nie chcesz być na nagraniu\, miej wyłączoną kamerę i mikrofon przez cały czas trwania webinaru. Jednocześnie bardzo zachęcamy do zadawania pytań i dzielenia się swoimi refleksjami. To spotkanie jest dla Ciebie!\nZapisy: https://portal.empathicway.pl/next/public/catalog/product/platforma-subskrypcyjna-nvc\n\n\n Gość:\n\n\nŁukasz Bieliński \nCertyfikowany trener NVC\, Certyfikowany Trener Biznesu SET\, Dyplomowany Coach (SWPS)\, Wykładowca na studiach podyplomowych z NVC na Uniwersytecie Vizja\, Mediator. \nUkończył ponad 2000 h szkoleń z zakresu sprzedaży\, wywierania wpływu\, psychologii relacji\, pracy z emocjami\, skutecznej komunikacji\, NLP\, pracy ze stresem\, rozwiązywania konfliktów wewnętrznych\, efektywności osobistej\, wystąpień publicznych\, prowadzenia szkoleń. Od ponad 10 lat praktykuje Nonviolent Communication (NVC). \nPraktyk sprzedaży od 12.2006 – branże ubezpieczeniowa\, telekomunikacyjna i szkoleniowa. Ukończył studia podyplomowe Coaching i Mentoring na Wyższej Szkole Psychologii Społecznej w Warszawie. Ukończył studia magisterskie Zarządzanie i Marketing na Akademii Leona Koźmińskiego w Warszawie – specjalizacja Zarządzanie Strategiczne. Obecnie studiuje Psychologię na Uniwersytecie Vizja. \nProwadzi szkolenia od 2009 roku. Prowadził szkolenia i warsztaty m.in. dla Paramount\, Polsat\, OCHNIK\, PZU Życie\, ING Finanse\, Generali\, PrudenYal\, Bank BPS w Stalowej Woli\, Glaxo Smith Kline\, AVON\, PWN\, Wydawnictwo NOWA ERA\, NIKON\, Toyota\, Codilime\, MAKRO\, Cardif\, Innogy\, BUDIMEX\, CK Investments. \nProwadził wystąpienia i prezentacje na: Uniwersytet SWPS w Warszawie\, Politechnika Warszawska\, Akademia Leona Koźmińskiego\, Uczelnia Łazarskiego\, Uniwersytet Warszawski\, Uniwersytet Wrocławski\, Akademia Finansów i Biznesu Vistula. \nPracuje podczas sesji indywidualnych z przedsiębiorcami\, inwestorami\, kadrą zarządzającą nad ich efektywnością osobistą\, emocjami\, konfliktami wewnętrznymi i skuteczną komunikacją. \nJego strona internetowa: https://lukaszbielinski.com/ \n\n Prowadząca:\n\nPaulina Orbitowska-Fernandez – Towarzyszę osobom indywidualnym\, parom\, rodzinom\, zespołom\, liderkom i liderom w budowaniu relacji opartych na empatii\, dialogu i porozumieniu. Prowadzę warsztaty\, team coaching\, sesje indywidualne. Pracuję jako trenerka\, coach’ka i mentorka\, mediatorka NVC\, analityczka MindSonar\, praktyczka Resonant Healing\, nauczycielka akademicka. Wspieram różne środowiska\, w tym edukacyjne\, biznesowe\, medyczne\, NGO’sy\, instytucje publiczne. Pracuję po polsku\, angielsku i hiszpańsku.
URL:https://www.empathicway.pl/wydarzenie/mniej-ocen-wiecej-kontaktu-spotkanie-z-lukaszem-bielinskim/
ATTACH;FMTTYPE=image/png:https://www.empathicway.pl/wp-content/uploads/2026/04/Mniej-ocen-wiecej-kontaktu-spotkanie-z-Lukaszem-Bielinskim.png
END:VEVENT
END:VCALENDAR