BEGIN:VCALENDAR
VERSION:2.0
PRODID:-//Empathic Way | Porozumienie bez Przemocy (NVC) w praktyce - ECPv6.15.17.1//NONSGML v1.0//EN
CALSCALE:GREGORIAN
METHOD:PUBLISH
X-ORIGINAL-URL:https://www.empathicway.pl
X-WR-CALDESC:Wydarzenia dla Empathic Way | Porozumienie bez Przemocy (NVC) w praktyce
REFRESH-INTERVAL;VALUE=DURATION:PT1H
X-Robots-Tag:noindex
X-PUBLISHED-TTL:PT1H
BEGIN:VTIMEZONE
TZID:Europe/Warsaw
BEGIN:DAYLIGHT
TZOFFSETFROM:+0100
TZOFFSETTO:+0200
TZNAME:CEST
DTSTART:20150329T010000
END:DAYLIGHT
BEGIN:STANDARD
TZOFFSETFROM:+0200
TZOFFSETTO:+0100
TZNAME:CET
DTSTART:20151025T010000
END:STANDARD
BEGIN:DAYLIGHT
TZOFFSETFROM:+0100
TZOFFSETTO:+0200
TZNAME:CEST
DTSTART:20160327T010000
END:DAYLIGHT
BEGIN:STANDARD
TZOFFSETFROM:+0200
TZOFFSETTO:+0100
TZNAME:CET
DTSTART:20161030T010000
END:STANDARD
BEGIN:DAYLIGHT
TZOFFSETFROM:+0100
TZOFFSETTO:+0200
TZNAME:CEST
DTSTART:20170326T010000
END:DAYLIGHT
BEGIN:STANDARD
TZOFFSETFROM:+0200
TZOFFSETTO:+0100
TZNAME:CET
DTSTART:20171029T010000
END:STANDARD
END:VTIMEZONE
BEGIN:VEVENT
DTSTART;VALUE=DATE:20160305
DTEND;VALUE=DATE:20160307
DTSTAMP:20260424T103842
CREATED:20160224T113447Z
LAST-MODIFIED:20190806T200043Z
UID:707-1457136000-1457308799@www.empathicway.pl
SUMMARY:Szkolenie Porozumienie bez Przemocy Lublin
DESCRIPTION:Szkolenie o tym jak budować relacje z innymi w poczuciu wzajemnego zaufania\, będąc bliżej siebie i bliżej innych.\nSzkolenie daje możliwość nauki świadomego i pełnego wyrażania siebie poprzez zmianę stylu komunikowania się i słuchania. Proponowane zajęcia są krokiem w kierunku budowania relacji opartych na szczerości i zaufaniu. \nKorzyści z udziału w szkoleniu:\n\ndowiesz się jak efektywniej współpracować z innymi;\nbędziesz potrafił/potrafiła lepiej rozumieć intencje innych ludzi;\nbędziesz częściej doświadczać zrozumienia i wysłuchania;\npoznasz moc doceniania siebie i innych;\ndowiesz się jak świadomie dobierać słowa\, by nie ranić;\ndowiesz się jak odmawiać i jak pozwolić sobie na przyjęcie czyjejś odmowy;\nzdobędziesz wiedzę na temat przyczyn konfliktów i sposobów ich rozwiązywania;\nbędziesz potrafił/potrafiła pochwalić swoje dziecko tak\, żeby budować w nim poczucie własnej wartości;\npoznasz podstawy języka serca (Porozumienie bez Przemocy).\n\nZapraszamy w szczególności tych\, którzy pracują z trudnymi grupami. \nProwadząca:\nMałgorzata Sobiesiak \nMiejsce:\nLublin\, ul. Bernardyńska 3\, Pałac Parysów\, I piętro \nData:\n5-6 marca 2016 r. \nCzas trwania:\n16 h dydaktycznych\,  sobota 9.00 -17.00\,  niedziela 9.00 – 14.00 \nKoszt:\n180 zł za całe szkolenie. \nZapisy:\nZapisy zakończone
URL:https://www.empathicway.pl/wydarzenie/szkolenie-porozumienie-bez-przemocy-lublin/
LOCATION:Lublin\, Polska
ATTACH;FMTTYPE=image/jpeg:https://www.empathicway.pl/wp-content/uploads/2016/02/giraffe.jpg
END:VEVENT
END:VCALENDAR