BEGIN:VCALENDAR
VERSION:2.0
PRODID:-//Empathic Way | Porozumienie bez Przemocy (NVC) w praktyce - ECPv6.15.17.1//NONSGML v1.0//EN
CALSCALE:GREGORIAN
METHOD:PUBLISH
X-ORIGINAL-URL:https://www.empathicway.pl
X-WR-CALDESC:Wydarzenia dla Empathic Way | Porozumienie bez Przemocy (NVC) w praktyce
REFRESH-INTERVAL;VALUE=DURATION:PT1H
X-Robots-Tag:noindex
X-PUBLISHED-TTL:PT1H
BEGIN:VTIMEZONE
TZID:Europe/Warsaw
BEGIN:DAYLIGHT
TZOFFSETFROM:+0100
TZOFFSETTO:+0200
TZNAME:CEST
DTSTART:20150329T010000
END:DAYLIGHT
BEGIN:STANDARD
TZOFFSETFROM:+0200
TZOFFSETTO:+0100
TZNAME:CET
DTSTART:20151025T010000
END:STANDARD
BEGIN:DAYLIGHT
TZOFFSETFROM:+0100
TZOFFSETTO:+0200
TZNAME:CEST
DTSTART:20160327T010000
END:DAYLIGHT
BEGIN:STANDARD
TZOFFSETFROM:+0200
TZOFFSETTO:+0100
TZNAME:CET
DTSTART:20161030T010000
END:STANDARD
BEGIN:DAYLIGHT
TZOFFSETFROM:+0100
TZOFFSETTO:+0200
TZNAME:CEST
DTSTART:20170326T010000
END:DAYLIGHT
BEGIN:STANDARD
TZOFFSETFROM:+0200
TZOFFSETTO:+0100
TZNAME:CET
DTSTART:20171029T010000
END:STANDARD
BEGIN:DAYLIGHT
TZOFFSETFROM:+0100
TZOFFSETTO:+0200
TZNAME:CEST
DTSTART:20180325T010000
END:DAYLIGHT
BEGIN:STANDARD
TZOFFSETFROM:+0200
TZOFFSETTO:+0100
TZNAME:CET
DTSTART:20181028T010000
END:STANDARD
END:VTIMEZONE
BEGIN:VEVENT
DTSTART;VALUE=DATE:20170801
DTEND;VALUE=DATE:20170816
DTSTAMP:20260424T110355
CREATED:20170502T100527Z
LAST-MODIFIED:20170710T160211Z
UID:1732-1501545600-1502841599@www.empathicway.pl
SUMMARY:Wyzwanie „Wiem\, czego chcę” - II edycja
DESCRIPTION:Wyzwanie „Wiem\, czego chcę”\n\n \nZapraszamy do udziału w wyzwaniu online „Wiem\, czego chcę”\, dzięki któremu przyjrzysz się sobie i będziesz mieć szansę odkryć czego chcesz od życia i w jakim kierunku zmierzać!\n \nCo dwa dni będziemy Ci wysyłać różne ćwiczenia do zrobienia oraz trochę teorii\, natomiast osobom chętnym pogłębić to\, co zostanie odkryte podczas wyzwania\, polecamy sesję coachingową w ramach pakietu VIP (cena jest naprawdę atrakcyjna).\n \nW bonusie do wyzwania otrzymasz mini-kurs „Empatyczne słuchanie” – jeśli nie załapałeś/nie załapałaś się na dotychczasowe\, darmowe edycje to teraz masz szansę otrzymać go w naprawdę atrakcyjnej cenie (edycja darmowa już się nie powtórzy…)\n \nStartujemy 1 SIERPNIA. Zapisz się już dziś TUTAJ!  \n\n\n\n\n\n\n\n\n\n\n	\n		 \n			Dowiedz się więcej!		\n	\n\n\n\n\n\n\n  \nWyzwanie organizujemy w ramach projektu „Czego Najbardziej?!”\, razem z Praca w równowadze\, Joga Śmiej się z Pasją oraz Babska Dżungla!\n 
URL:https://www.empathicway.pl/wydarzenie/wyzwanie-wiem-czego-chce/
ATTACH;FMTTYPE=image/jpeg:https://www.empathicway.pl/wp-content/uploads/2017/05/Wyzwanie-Wiem-czego-chce-Empathic-Way.jpg
END:VEVENT
BEGIN:VEVENT
DTSTART;TZID=Europe/Warsaw:20170105T180000
DTEND;TZID=Europe/Warsaw:20170105T203000
DTSTAMP:20260424T110355
CREATED:20161216T185532Z
LAST-MODIFIED:20161216T192915Z
UID:1394-1483639200-1483648200@www.empathicway.pl
SUMMARY:Warsztat „Postanowienia noworoczne na serio” Warszawa
DESCRIPTION:Postanowienia noworoczne warsztat Warszawa.\n  \nCzy myślisz już o nadchodzącym roku i rzeczach\, które chcesz w nim zrealizować? \n  \n1 stycznia to jeden z tych momentów\, gdy ma się wrażenie\, że można zacząć wszystko od nowa\, ruszyć z większą energią i wiarą\, że tym razem się uda. To dzień\, w którym jest tak jakbyśmy dostawali nową\, czystą kartkę\, którą możemy zapisać tym\, co chcemy. Ilość możliwości zapiera dech w piersiach\, na policzkach pojawiają się rumieńce i rwiemy się do tego\, by zacząć działać już\, teraz. \n  \nW tym roku czuję to szczególnie mocno i bardzo bym chciała\, by ten stan trwał jak najdłużej. Chciałabym osiągnąć wszystkie cele\, które są dla mnie ważne i prowadzą do miejsca\, w którym pragnę się znaleźć za rok. Chcę obrać właściwy kierunek i każdego dnia nowego roku robić krok do przodu. Czy Ty też tego pragniesz? \n  \nJeśli tak to zapraszam na warsztaty\, podczas których w przyjemnej\, poświątecznej atmosferze: \n– przyjrzysz się swojemu życiu z lotu ptaka\, \n– zastanowisz się\, z którego obszaru życia jesteś zadowolony/zadowolona\, a który wymaga zwiększonej uwagi w nadchodzącym roku\, \n– ustalisz najważniejsze cele na 2017 rok i poszukasz\, jakie ważne potrzeby za nimi stoją\, \n– zaplanujesz konkretne strategie działania\, by te cele osiągnąć. \n  \nWarsztat prowadzony będzie w oparciu o narzędzia coachingowe oraz Porozumienie bez Przemocy (skupimy się na potrzebach i strategiach). \n  \nZapraszam serdecznie! Zróbmy to razem – zaplanujmy nadchodzący rok tak\, by nie mieć już żadnych wymówek do stania w miejscu! \n  \nKiedy:\n5 stycznia 2017\, godz. 18:00 – 20:30. \n  \nMiejsce: \nVega\, al. Jana Pawła II 36c\, Warszawa \n  \nKoszt: \n34 zł. Wpłata jest jednoznaczna z rezerwacją miejsca. \n  \nKontakt: \nJeśli masz pytania lub potrzebujesz więcej szczegółowych informacji zachęcamy do kontaktu mailowego: kontakt@empathicway.pl \n  \nProwadząca: \nMagdalena Malinowska – coach\, trenerka komunikacji. \nWspółtworzę firmę Empathic Way\, która powstała by dzielić się z innymi wiedzą na temat komunikacji empatycznej poprzez szkolenia i warsztaty oraz by wspierać rozwój indywidualny poprzez coaching. Prowadząc coaching korzystam z wiedzy zdobytej podczas półrocznego szkolenia „Coaching oparty na potrzebach”\, gdzie uczyłam się coachingu od Pernille Plantener z Danii\, która jest akredytowanym coachem PCC ICF oraz Coaching for Transformation. Jestem też w trakcie studiów podyplomowych Life Coaching Start Up w Collegium Civitas\, którego program został zaakceptowany przez ICF (Approved Coach Specific Training Hours ACSTH). \nOprócz sesji coachingowych prowadzę szkolenia z komunikacji opartej na empatii (Porozumienie bez Przemocy – Nonviolent Communication). Ukończyłam psychologię stosunków międzykulturowych w Szkole Wyższej Psychologii Społecznej w Warszawie\, roczną Szkołę Treningu i Warsztatu Psychologicznego w Ośrodku Edukacji i Pomocy Psychologicznej INTRA oraz trzyletnią Szkołę Trenerów Komunikacji opartej na Empatii w Dojrzewalni Róż. \nWspółtworzę grupę „Czego Najbardziej”\, w ramach której realizujemy akcje społeczne\, mające za zadanie spowodować\, żeby w Warszawie\, i całej Polsce\, żyło się lepiej\, wolniej\, bardziej przyjaźnie i życzliwie. Ostatnio organizowałyśmy Dzień Życzliwości. \nkontakt@empathicway.pl www.empathicway.pl \n  \nZapisy: \nAby się zapisać należy wykupić bilet za pośrednictwem serwisu Evenea. \nW związku z warsztatową formą zajęć\, ilość miejsc jest ograniczona.
URL:https://www.empathicway.pl/wydarzenie/postanowienia-noworoczne-warsztat-warszawa/
LOCATION:Vega\, al. Jana Pawła II 36c\, Warszawa\, Polska
ATTACH;FMTTYPE=image/jpeg:https://www.empathicway.pl/wp-content/uploads/2016/12/Postanowienia_noworoczne_warsztat_Warszawa.jpg
END:VEVENT
BEGIN:VEVENT
DTSTART;TZID=Europe/Warsaw:20161228T180000
DTEND;TZID=Europe/Warsaw:20161228T203000
DTSTAMP:20260424T110355
CREATED:20161216T183501Z
LAST-MODIFIED:20161216T185643Z
UID:1382-1482948000-1482957000@www.empathicway.pl
SUMMARY:Warsztat „Postanowienia noworoczne na serio” Białystok
DESCRIPTION:Postanowienia noworoczne warsztat Białystok!\n  \nCzy myślisz już o nadchodzącym roku i rzeczach\, które chcesz w nim zrealizować? \n  \n1 stycznia to jeden z tych momentów\, gdy ma się wrażenie\, że można zacząć wszystko od nowa\, ruszyć z większą energią i wiarą\, że tym razem się uda. To dzień\, w którym jest tak jakbyśmy dostawali nową\, czystą kartkę\, którą możemy zapisać tym\, co chcemy. Ilość możliwości zapiera dech w piersiach\, na policzkach pojawiają się rumieńce i rwiemy się do tego\, by zacząć działać już\, teraz. \n  \nW tym roku czuję to szczególnie mocno i bardzo bym chciała\, by ten stan trwał jak najdłużej. Chciałabym osiągnąć wszystkie cele\, które są dla mnie ważne i prowadzą do miejsca\, w którym pragnę się znaleźć za rok. Chcę obrać właściwy kierunek i każdego dnia nowego roku robić krok do przodu. Czy Ty też tego pragniesz? \n  \nJeśli tak to zapraszam na warsztaty\, podczas których w przyjemnej\, świątecznej atmosferze: \n– przyjrzysz się swojemu życiu z lotu ptaka\, \n– zastanowisz się\, z którego obszaru życia jesteś zadowolony/zadowolona\, a który wymaga zwiększonej uwagi w nadchodzącym roku\, \n– ustalisz najważniejsze cele na 2017 rok i poszukasz\, jakie ważne potrzeby za nimi stoją\, \n– zaplanujesz konkretne strategie działania\, by te cele osiągnąć. \n  \nWarsztat prowadzony będzie w oparciu o narzędzia coachingowe oraz Porozumienie bez Przemocy (skupimy się na potrzebach i strategiach). \n  \nZapraszam serdecznie! Zróbmy to razem – zaplanujmy nadchodzący rok tak\, by nie mieć już żadnych wymówek do stania w miejscu! \n  \nKiedy:\n28 grudnia 2016\, godz. 18:00 – 20:30. \n  \nMiejsce: \nGabinet Psychologiczny „Otwarci”\, ul. L. Waryńskiego 38 lok. 30\, Białystok \n  \nKoszt: \n29 zł. Wpłata jest jednoznaczna z rezerwacją miejsca. \n  \nKontakt: \nJeśli masz pytania lub potrzebujesz więcej szczegółowych informacji zachęcamy do kontaktu mailowego: kontakt@empathicway.pl \n  \nProwadząca: \nMagdalena Malinowska – coach\, trenerka komunikacji. \nWspółtworzę firmę Empathic Way\, która powstała by dzielić się z innymi wiedzą na temat komunikacji empatycznej poprzez szkolenia i warsztaty oraz by wspierać rozwój indywidualny poprzez coaching. Prowadząc coaching korzystam z wiedzy zdobytej podczas półrocznego szkolenia „Coaching oparty na potrzebach”\, gdzie uczyłam się coachingu od Pernille Plantener z Danii\, która jest akredytowanym coachem PCC ICF oraz Coaching for Transformation. Jestem też w trakcie studiów podyplomowych Life Coaching Start Up w Collegium Civitas\, którego program został zaakceptowany przez ICF (Approved Coach Specific Training Hours ACSTH). \nOprócz sesji coachingowych prowadzę szkolenia z komunikacji opartej na empatii (Porozumienie bez Przemocy – Nonviolent Communication). Ukończyłam psychologię stosunków międzykulturowych w Szkole Wyższej Psychologii Społecznej w Warszawie\, roczną Szkołę Treningu i Warsztatu Psychologicznego w Ośrodku Edukacji i Pomocy Psychologicznej INTRA oraz trzyletnią Szkołę Trenerów Komunikacji opartej na Empatii w Dojrzewalni Róż. \nWspółtworzę grupę „Czego Najbardziej”\, w ramach której realizujemy akcje społeczne\, mające za zadanie spowodować\, żeby w Warszawie\, i całej Polsce\, żyło się lepiej\, wolniej\, bardziej przyjaźnie i życzliwie. Ostatnio organizowałyśmy Dzień Życzliwości. \nkontakt@empathicway.pl www.empathicway.pl \n  \nZapisy: \nAby się zapisać należy wykupić bilet za pośrednictwem serwisu Evenea. \nW związku z warsztatową formą zajęć\, ilość miejsc jest ograniczona.
URL:https://www.empathicway.pl/wydarzenie/postanowienia-noworoczne-warsztat-bialystok/
LOCATION:Gabinet Psychologiczny „Otwarci”\, ul. L. Waryńskiego 38 lok. 30\, Białystok\, Polska
ATTACH;FMTTYPE=image/jpeg:https://www.empathicway.pl/wp-content/uploads/2016/12/Postanowienia_noworoczne_warsztat_Bialystok.jpg
END:VEVENT
BEGIN:VEVENT
DTSTART;TZID=Europe/Warsaw:20160716T100000
DTEND;TZID=Europe/Warsaw:20160716T160000
DTSTAMP:20260424T110355
CREATED:20160617T224023Z
LAST-MODIFIED:20190806T200001Z
UID:1058-1468663200-1468684800@www.empathicway.pl
SUMMARY:Czego najbardziej pragniesz? Warsztaty!
DESCRIPTION:Zapraszamy na warsztaty organizowane we współpracy z Ośrodkiem Kultury Ochota!\n16 lipca 2016\, sobota\, 10:00 – 16:00.\nCzego pragniesz najbardziej w życiu? \nA czego najbardziej pragniesz w tej chwili? \nZastanów się przez chwilę… \nCzy odpowiedź na oba te pytania jest identyczna? \nCzy wczoraj odpowiedziałbyś/odpowiedziałabyś tak samo? A 5 lat temu? \n\nNasze pragnienia mogą się zmieniać jak w kalejdoskopie\, ale nie muszą. Część z nich jest aktualna przez wiele lat\, czasem przez całe nasze życie\, część po ich spełnieniu (bądź zdezaktualizowaniu się) ustępuje miejsca nowym\, świeżym. Warto być na bieżąco z naszymi pragnieniami\, gdyż tylko wtedy możemy dopasować do nich nasze cele i strategie ich osiągania.\nSą takie pragnienia\, które są ważne dla większości osób w każdej chwili. Pragnienie kreatywności\, radości\, samorozwoju\, przyjemności\, bliskości…\nNaszą odpowiedzią na nie są WARSZTATY.\nSkupimy się podczas nich na kilku pragnieniach: pragnieniu radości\, pragnieniu smakowania\, pragnieniu odważnego działania i pragnieniu budowania bliskiego kontaktu z ludźmi.\nProponujemy Ci udział w czterech warsztatach\, jeden po drugim. Kolejność warsztatów będzie losowa!\nTematy warsztatów:\n– Inspiruj (U) śmiechem – joga śmiechu (Karin Lesiak)\n– Smakowanie wg 5 zmysłów (Aneta Choroszy)\n– Odważnie sięgaj po to\, czego pragniesz (Beata Kosiacka)\n– Słuchanie – pierwszy krok do kontaktu (Magdalena Malinowska)\nDla kogo:\nZapraszamy wszystkie osoby\, które pragną 🙂 i są otwarte na nowe doświadczenia.\nKiedy:\n16 lipca 2016\, godz. 10:00 – 16:00\nMiejsce:\nOśrodek Kultury Ochoty\, ul. Grójecka 75\, Warszawa.\nCena:\n99 zł za całość.\nPrzyjdź z koleżanką/kolegą lub umów się w większym gronie – będzie jeszcze korzystniej:\n2 bilety=95 zł/szt.\n3 bilety= 89 zł/szt.\nZapisy:\nAby się zapisać należy wysłać zgłoszenie poprzez formularz dostępny na stronie http://czegonajbardziej.pl/czego-najbardziej-pragniesz-warsztaty/. Po zgłoszeniu swojego uczestnictwa otrzymasz e-mail z potwierdzeniem\, numerem konta bankowego oraz dalszymi wskazówkami. Miejsce rezerwuje wpłata.\nJeśli zgłaszacie się w kilka osób\, w polu „Imię i nazwisko” wpisz wszystkie osoby.\nJeśli nie dotrze do Ciebie e-mail potwierdzający przyjęcie zgłoszenia\, sprawdź proszę foldery: spam\, społeczności\, oferty\, itp. Jeśli i tam nie ma wiadomości od nas\, wypełnij zgłoszenie ponownie\, upewniając się\, że wpisujesz poprawny adres\, lub skontaktuj się z nami: kontakt@czegonajbardziej.pl\nKontakt:\nJeśli masz pytania lub potrzebujesz więcej szczegółowych informacji zachęcamy do kontaktu mailowego:kontakt@czegonajbardziej.pl\nOrganizatorzy:\n– Ośrodek Kultury Ochota: https://www.facebook.com/osrodekkulturyochoty/\, http://www.oko.com.pl/\n– Czego Najbardziej: https://www.facebook.com/czegonajbardziej/\,  http://czegonajbardziej.pl/\nTrenerki:\n– Beata Kosiacka – Babska Dżungla: https://www.facebook.com/BabskaDzungla/\, http://www.babskadzungla.pl/\n– Magdalena Malinowska – Empathic Way: https://www.facebook.com/empathicwaypl/\, www.empathicway.pl\n– Karin Lesiak – Joga śmiej się z pasją: https://www.facebook.com/Joga-Śmiej-się-z-Pasją-1483830758593245/\,http://www.jogasmiejsiezpasja.pl/\n– Aneta Choroszy – Praca w Równowadze https://www.facebook.com/pracawrownowadze/
URL:https://www.empathicway.pl/wydarzenie/czego-najbardziej-pragniesz-warsztaty/
LOCATION:Ośrodek Kultury Ochoty\, ul. Grójecka 75\, Warszawa\, Polska
ATTACH;FMTTYPE=image/jpeg:https://www.empathicway.pl/wp-content/uploads/2016/06/czego_pragniesz.jpg
END:VEVENT
END:VCALENDAR