BEGIN:VCALENDAR
VERSION:2.0
PRODID:-//Empathic Way | Porozumienie bez Przemocy (NVC) w praktyce - ECPv6.15.17.1//NONSGML v1.0//EN
CALSCALE:GREGORIAN
METHOD:PUBLISH
X-ORIGINAL-URL:https://www.empathicway.pl
X-WR-CALDESC:Wydarzenia dla Empathic Way | Porozumienie bez Przemocy (NVC) w praktyce
REFRESH-INTERVAL;VALUE=DURATION:PT1H
X-Robots-Tag:noindex
X-PUBLISHED-TTL:PT1H
BEGIN:VTIMEZONE
TZID:Europe/Warsaw
BEGIN:DAYLIGHT
TZOFFSETFROM:+0100
TZOFFSETTO:+0200
TZNAME:CEST
DTSTART:20150329T010000
END:DAYLIGHT
BEGIN:STANDARD
TZOFFSETFROM:+0200
TZOFFSETTO:+0100
TZNAME:CET
DTSTART:20151025T010000
END:STANDARD
BEGIN:DAYLIGHT
TZOFFSETFROM:+0100
TZOFFSETTO:+0200
TZNAME:CEST
DTSTART:20160327T010000
END:DAYLIGHT
BEGIN:STANDARD
TZOFFSETFROM:+0200
TZOFFSETTO:+0100
TZNAME:CET
DTSTART:20161030T010000
END:STANDARD
BEGIN:DAYLIGHT
TZOFFSETFROM:+0100
TZOFFSETTO:+0200
TZNAME:CEST
DTSTART:20170326T010000
END:DAYLIGHT
BEGIN:STANDARD
TZOFFSETFROM:+0200
TZOFFSETTO:+0100
TZNAME:CET
DTSTART:20171029T010000
END:STANDARD
END:VTIMEZONE
BEGIN:VEVENT
DTSTART;TZID=Europe/Warsaw:20160618T100000
DTEND;TZID=Europe/Warsaw:20160618T133000
DTSTAMP:20260424T103204
CREATED:20160517T171826Z
LAST-MODIFIED:20191112T105618Z
UID:1008-1466244000-1466256600@www.empathicway.pl
SUMMARY:Empatia kluczem do sukcesu w biznesie
DESCRIPTION:Empatia w biznesie.\n  \nCzy empatia w biznesie jest możliwa? 18 czerwca 2016 zapraszamy na szkolenie\, które pozwoli Ci rozwinąć umiejętność skutecznej\, empatycznej komunikacji w biznesie. \nAby skutecznie współdziałać\, najpierw warto drugą osobę zrozumieć. Dopóki nie zrozumiesz sytuacji Twojego pracownika\, czy Twojego klienta\, nie będziesz w stanie skutecznie z nim współpracować\, czy pomóc mu w rozwiązaniu jego kluczowego problemu. Aby opanować skuteczną komunikację\, nie wystarczy znajomość różnych technik. Kluczowe jest zbudowanie umiejętności empatycznego słuchania. Empatia pomaga zrozumieć potrzeby klientów\, co ułatwia proces sprzedaży i jest niezbędna w sprawnym zarządzaniu zespołem. \n  \nBiorąc udział w szkoleniu:\n\nzwiększysz umiejętność empatycznego słuchania;\ndowiesz się\, jak budować porozumienie i współpracę w swoim zespole;\ndowiesz się jak słowa wpływają na Twoje relacje z innymi;\npoznasz jedno z nowoczesnych podejść do zarządzania ludźmi;\nnauczysz się precyzyjnie konstruować swoje komunikaty\, by być dobrze zrozumianym.\n\nŁatwiejsza współpraca z innymi\, skuteczniejsze delegowanie zadań\, większa motywacja w zespole oraz lepszy kontakt z klientami to tylko niektóre korzyści\, które mogą wypłynąć z udziału w tym warsztacie. \n  \nZapraszamy przedsiębiorców\, którzy:\n\nchcą usprawnić komunikację ze swoimi pracownikami i klientami;\nchcą przestać być jedyną osobą w firmie\, której zależy na osiąganiu rezultatów i budowaniu marki;\nsą zainteresowani zarządzaniem opartym na szacunku i respektowaniu potrzeb obu stron;\nmają gotowość wypróbować empatyczne podejście do biznesu.\n\n\nKiedy:\n18 czerwca 2016\, godz. 10:00 – 13:30 \n  \nMiejsce:\nFundacja Rozwoju Przedsiębiorczości i Inicjatyw Lokalnych Bizoon \nLegionowo\, ul. Jagiellońska 13a\, piętro I\, lok. 9 i 10 \n  \nZapisy: \nAby się zapisać należy wysłać wiadomość na adres: kontakt@empathicway.pl oraz opłacić udział na niżej podane konto: \nEmpathic Way Magdalena Malinowska\n53 1140 2004 0000 3602 4620 7037\nW tytule przelewu prosimy wpisać „18.06.2016 Legionowo” oraz podać swoje imię i nazwisko. \nW związku z warsztatową formą zajęć\, ilość miejsc jest ograniczona. Przy rezerwacji miejsca bierzemy pod uwagę kolejność wpłaty zaliczki. \n  \nKontakt: \nJeśli masz pytania lub potrzebujesz więcej szczegółowych informacji zachęcamy do kontaktu mailowego: kontakt@empathicway.pl. \n  \nProwadzące:\nMagdalena Malinowska oraz Małgorzata Sobiesiak https://www.empathicway.pl/o-nas/ \nUWAGA – DLA GRUP ZORGANIZOWANYCH (MIN. 8 OSÓB) MOŻLIWOŚĆ USTALENIA INDYWIDUALNEGO TERMINU. \n 
URL:https://www.empathicway.pl/wydarzenie/empatia-kluczem-sukcesu-biznesie/
LOCATION:Fundacja Rozwoju Przedsiębiorczości i Inicjatyw Lokalnych Bizoon\, ul. Jagiellońska 13a\, Legionowo\, Polska
ATTACH;FMTTYPE=image/jpeg:https://www.empathicway.pl/wp-content/uploads/2016/05/Empatia_w_biznesie.jpg
END:VEVENT
END:VCALENDAR