BEGIN:VCALENDAR
VERSION:2.0
PRODID:-//Empathic Way | Porozumienie bez Przemocy (NVC) w praktyce - ECPv6.15.17.1//NONSGML v1.0//EN
CALSCALE:GREGORIAN
METHOD:PUBLISH
X-ORIGINAL-URL:https://www.empathicway.pl
X-WR-CALDESC:Wydarzenia dla Empathic Way | Porozumienie bez Przemocy (NVC) w praktyce
REFRESH-INTERVAL;VALUE=DURATION:PT1H
X-Robots-Tag:noindex
X-PUBLISHED-TTL:PT1H
BEGIN:VTIMEZONE
TZID:Europe/Warsaw
BEGIN:DAYLIGHT
TZOFFSETFROM:+0100
TZOFFSETTO:+0200
TZNAME:CEST
DTSTART:20200329T010000
END:DAYLIGHT
BEGIN:STANDARD
TZOFFSETFROM:+0200
TZOFFSETTO:+0100
TZNAME:CET
DTSTART:20201025T010000
END:STANDARD
BEGIN:DAYLIGHT
TZOFFSETFROM:+0100
TZOFFSETTO:+0200
TZNAME:CEST
DTSTART:20210328T010000
END:DAYLIGHT
BEGIN:STANDARD
TZOFFSETFROM:+0200
TZOFFSETTO:+0100
TZNAME:CET
DTSTART:20211031T010000
END:STANDARD
BEGIN:DAYLIGHT
TZOFFSETFROM:+0100
TZOFFSETTO:+0200
TZNAME:CEST
DTSTART:20220327T010000
END:DAYLIGHT
BEGIN:STANDARD
TZOFFSETFROM:+0200
TZOFFSETTO:+0100
TZNAME:CET
DTSTART:20221030T010000
END:STANDARD
BEGIN:DAYLIGHT
TZOFFSETFROM:+0100
TZOFFSETTO:+0200
TZNAME:CEST
DTSTART:20230326T010000
END:DAYLIGHT
BEGIN:STANDARD
TZOFFSETFROM:+0200
TZOFFSETTO:+0100
TZNAME:CET
DTSTART:20231029T010000
END:STANDARD
END:VTIMEZONE
BEGIN:VEVENT
DTSTART;TZID=Europe/Warsaw:20220322T190000
DTEND;TZID=Europe/Warsaw:20220322T200000
DTSTAMP:20260424T193655
CREATED:20220219T155939Z
LAST-MODIFIED:20231101T104537Z
UID:4120-1647975600-1647979200@www.empathicway.pl
SUMMARY:Błędy w komunikacji z dzieckiem – bezpłatny webinar
DESCRIPTION:Mamo i Tato! \nZapraszam Cię na godzinne spotkanie\, podczas którego dowiesz się: \n– o zwrotach językowych powodujących napięcie w rozmowie; \n– o błędach związanych z komunikowaniem emocji; \n– o błędach związanych z perspektywą. \n  \nWebinar jest bezpłatny\, wystarczy się zapisać! \n  \nInformacje praktyczne\n\nKiedy: 22 marca 2022\, godz. 19:00-20:00\nJak: Spotkamy się przy użyciu aplikacji ZOOM\, która umożliwia wszystkim uczestnikom widzenie się i słyszenie. Aby wziąć udział\, potrzebny Ci będzie komputer/smartfon z dostępem do internetu\, kamerą i mikrofonem. Przygotuj sobie również coś do pisania. Link do spotkania oraz instrukcję\, jak do niego dołączyć\, otrzymasz po zapisaniu się i potwierdzeniu dołączenia do mojego newslettera (sprawdź SPAM i folder OFERTY!).\nZapisy: https://online.empathicway.pl/bledy-w-komunikacji-z-dzieckiem-webinar/ \nNagrywanie: To spotkanie będzie nagrywane i udostępnione pod warunkiem\, że jakość będzie satysfakcjonująca. Dołącz na żywo\, by go nie przegapić. Planujemy wykorzystywać to nagranie do celów marketingowych umieszczając w różnych miejscach\, takich jak YouTube\, Facebook\, strona internetowa\, itp. Jeśli nie chcesz być na nagraniu\, miej wyłączoną kamerę i mikrofon przez cały czas trwania webinaru.\nJednocześnie bardzo zachęcamy do zadawania pytań i dzielenia się swoimi refleksjami. Ten webinar jest dla Ciebie!\n\n\n\n\n\n\nProwadząca:\n\n\n\n\n\n\n\n\n\n\nMałgorzata Sobiesiak\nPsycholożka\, trenerka komunikacji opartej na empatii \nW swojej pracy wykorzystuję elementy Terapii Skoncentrowanej na Rozwiązaniach oraz metodę „Dam Radę” Bena Furmana\, która wzmacnia poczucie zaradności i własnych możliwości u dzieci. \nOd trzynastu lat wspieram rodziców i dzieci pomagając im w budowaniu pełnych szacunku i zrozumienia relacji. \nWspółpracuję z przedszkolami\, Stowarzyszeniem Rodzin i Przyjaciół Osób z Zaburzeniami Psychicznymi INTEGRACJA\, Stowarzyszeniem Wspólne Podwórko. Prowadzę warsztaty dla rodziców\,  nauczycieli przedszkolnych oraz praktykę spotkań indywidualnych. W przedszkolach realizuję autorski projekt „Spotkania z emocjami”.
URL:https://www.empathicway.pl/wydarzenie/bledy-w-komunikacji-z-dzieckiem-bezplatny-webinar/
ATTACH;FMTTYPE=image/png:https://www.empathicway.pl/wp-content/uploads/2022/02/Bledy-w-komunikacji-z-dzieckiem-webinar-Empathic-Way.png
END:VEVENT
BEGIN:VEVENT
DTSTART;TZID=Europe/Warsaw:20211019T190000
DTEND;TZID=Europe/Warsaw:20211019T200000
DTSTAMP:20260424T193655
CREATED:20211012T115102Z
LAST-MODIFIED:20231101T104635Z
UID:4071-1634670000-1634673600@www.empathicway.pl
SUMMARY:Co robić\, gdy dziecko nie współpracuje? – webinar
DESCRIPTION:Czy jesteś zmęczony/zmęczona tym\, że Twoje dziecko nie robi tego\, o co je prosisz? \nCzy opadają Ci ręce\, gdy po raz kolejny słyszysz „nie”? \nMoże Twoje zasoby cierpliwości są na wyczerpaniu i już brak Ci nadziei\, że wyjście z domu czy położenie się spać kiedykolwiek pójdzie gładko? \nJeśli tak\, to serdecznie zapraszamy na webinar\, podczas którego Małgorzata Sobiesiak podzieli się kilkoma wskazówkami\, które wesprą Cię w budowaniu bliskiej relacji z Twoim dzieckiem. \nNa webinarze dowiesz się: \n\nco może być powodem „trudnych” zachowań dzieci;\nco zrobić\, by dziecko chciało Cię słuchać;\njak sobie radzić z silnymi emocjami dziecka;\nco mówić\, a jakich sformułowań lepiej unikać\, żeby dziecko chciało współpracować.\n\nWebinar będzie miał formę wywiadu i jest bezpłatny\, wystarczy się zapisać! \n  \nInformacje praktyczne\n\nKiedy: 19 października 2021\, godz. 19:00-20:00\nJak: Spotkamy się przy użyciu aplikacji ZOOM\, która umożliwia wszystkim uczestnikom widzenie się i słyszenie. Aby wziąć udział\, potrzebny Ci będzie komputer/smartfon z dostępem do internetu\, kamerą i mikrofonem. Przygotuj sobie również coś do pisania. Link do spotkania oraz instrukcję\, jak do niego dołączyć\, otrzymasz po zapisaniu się i potwierdzeniu dołączenia do mojego newslettera (sprawdź SPAM i folder OFERTY!).\nZapisy: https://online.empathicway.pl/co-robic-gdy-dziecko-nie-wspolpracuje-webinar/ \nNagrywanie: To spotkanie będzie nagrywane i udostępnione pod warunkiem\, że jakość będzie satysfakcjonująca. Dołącz na żywo\, by go nie przegapić. Planujemy wykorzystywać to nagranie do celów marketingowych umieszczając w różnych miejscach\, takich jak YouTube\, Facebook\, strona internetowa\, itp. Jeśli nie chcesz być na nagraniu\, miej wyłączoną kamerę i mikrofon przez cały czas trwania webinaru.\nJednocześnie bardzo zachęcamy do zadawania pytań i dzielenia się swoimi refleksjami. Ten webinar jest dla Ciebie!\n\n\n\n\n\n\nProwadząca:\n\n\n\n\n\n\n\n\n\n\nMałgorzata Sobiesiak\nPsycholożka\, trenerka komunikacji opartej na empatii \nW swojej pracy wykorzystuję elementy Terapii Skoncentrowanej na Rozwiązaniach oraz metodę „Dam Radę” Bena Furmana\, która wzmacnia poczucie zaradności i własnych możliwości u dzieci. \nOd trzynastu lat wspieram rodziców i dzieci pomagając im w budowaniu pełnych szacunku i zrozumienia relacji. \nWspółpracuję z przedszkolami\, Centrum Terapii i Rozwoju Mitigo\, Stowarzyszeniem Wspólne Podwórko. Prowadzę warsztaty dla rodziców\,  nauczycieli przedszkolnych oraz praktykę spotkań indywidualnych. W przedszkolach realizuję autorski projekt „Spotkania z emocjami”.
URL:https://www.empathicway.pl/wydarzenie/co-robic-gdy-dziecko-nie-wspolpracuje-webinar/
LOCATION:Online (ZOOM)
ATTACH;FMTTYPE=image/png:https://www.empathicway.pl/wp-content/uploads/2021/10/Webinar-Co-robic-gdy-dziecko-nie-wspolpracuje-Empathic-Way.png
END:VEVENT
BEGIN:VEVENT
DTSTART;TZID=Europe/Warsaw:20211005T190000
DTEND;TZID=Europe/Warsaw:20211005T200000
DTSTAMP:20260424T193655
CREATED:20210924T185855Z
LAST-MODIFIED:20231101T104708Z
UID:4052-1633460400-1633464000@www.empathicway.pl
SUMMARY:Autentyczność i empatia – bezpłatny webinar
DESCRIPTION:Jak być sobą i jednocześnie mieć empatię dla innych? \nJak dbać o swoje granice nie raniąc innych? \nJak wysłuchać osoby\, z którymi się nie zgadzam\, i nie zatracić własnej integralności? \n  \nCzy czasem pojawiają się w Tobie tego typu pytania? \nJeśli tak\, to serdecznie zapraszam na webinar\, podczas którego opowiem\, jak zadbać o te dwie jakości w swoim życiu. \nMam nadzieję\, że po tym spotkaniu Porozumienie bez Przemocy przestanie Ci się kojarzyć z byciem miłą osobą\, która nigdy nie ocenia innych i zawsze stawia potrzeby najbliższych na pierwszym miejscu. Pokażę Ci jak empatia i szczerość oraz dbanie zarówno o potrzeby innych jak i swoje\, mogą iść ze sobą w parze. \nWebinar jest wydarzeniem towarzyszącym MARATONOWI EMPATII: https://www.facebook.com/MaratonEmpatii \n  \nInformacje praktyczne\n\nKiedy: 5 października 2021\, godz. 19:00-20:00\nJak: Spotkamy się przy użyciu aplikacji ZOOM\, która umożliwia wszystkim uczestnikom widzenie się i słyszenie. Aby wziąć udział\, potrzebny Ci będzie komputer/smartfon z dostępem do internetu\, kamerą i mikrofonem. Przygotuj sobie również coś do pisania. Link do spotkania oraz instrukcję\, jak do niego dołączyć\, otrzymasz po zapisaniu się i potwierdzeniu dołączenia do mojego newslettera (sprawdź SPAM i folder OFERTY!).\nZapisy: https://online.empathicway.pl/autentycznosc-i-empatia-bezplatny-webinar/\nNagrywanie: To spotkanie będzie nagrywane i udostępnione pod warunkiem\, że jakość będzie satysfakcjonująca. Dołącz na żywo\, by go nie przegapić. Planuję dodać to nagranie do moich płatnych produktów oraz wykorzystywać je do celów marketingowych umieszczając w różnych miejscach\, takich jak YouTube\, Facebook\, strona internetowa\, itp. Jeśli nie chcesz być na nagraniu\, miej wyłączoną kamerę i mikrofon przez cały czas trwania webinaru.Jednocześnie bardzo zachęcam do zadawania pytań i dzielenia się swoimi refleksjami. Ten webinar jest dla Ciebie!\n\n  \nProwadząca:\nMagdalena Malinowska \nJestem certyfikowaną trenerką Porozumienia bez Przemocy (certyfikat CNVC\, USA). Wspieram w budowaniu satysfakcjonującego życia i dobrych relacji\, prywatnych i zawodowych\, poprzez szkolenia indywidualne i grupowe pogłębiające umiejętność skutecznej komunikacji. Inspiruję do szczerego dawania informacji zwrotnych oraz otwartości na perspektywę innych osób. Pomagam we wdrażaniu Porozumienia bez Przemocy (NVC) m.in. w związkach\, firmach i w organizacjach pozarządowych. \nPracuję głównie z osobami\, które pragną czerpać radość i spełnienie z autentycznych relacji z innymi. Chcą doświadczać życia we wszelkich jego aspektach\, nie boją się wyzwań oraz mają odwagę poznawać siebie i innych. \nJeśli jesteś jedną z takich osób\, to zapraszam na moje warsztaty oraz szkolenia indywidualne i sesje coachingowe podczas których pomagam przekuć teorię w praktykę. Zachęcam do małych kroków\, których ostatecznym rezultatem są namacalne efekty. Strona: www.empathicway.pl
URL:https://www.empathicway.pl/wydarzenie/autentycznosc-i-empatia-bezplatny-webinar/
LOCATION:Online (ZOOM)
ATTACH;FMTTYPE=image/png:https://www.empathicway.pl/wp-content/uploads/2021/09/Bezplatny-Webinar-Autentycznosc-i-empatia-Empathic-Way.png
END:VEVENT
BEGIN:VEVENT
DTSTART;TZID=Europe/Warsaw:20210919T180000
DTEND;TZID=Europe/Warsaw:20210919T190000
DTSTAMP:20260424T193655
CREATED:20210914T193122Z
LAST-MODIFIED:20231101T104722Z
UID:4046-1632074400-1632078000@www.empathicway.pl
SUMMARY:Piękno Twoich potrzeb – bezpłatny webinar
DESCRIPTION:Czy dostrzegasz piękno swoich potrzeb? \nCzy czerpiesz radość z ich zaspokajania? \n  \nJeśli czasem przychodzi Ci to z trudem i zdarza Ci się traktować swoje potrzeby z rezerwą\, zapraszam na bezpłatny webinar\, podczas którego podzielę się z Tobą swoją wiedzą i doświadczeniem w temacie potrzeb. \nDowiesz się\, czym są potrzeby w Porozumieniu bez Przemocy (NVC)\, czym się różnią od strategii oraz jak dbać o to\, na czym Ci najbardziej zależy. \nWebinar organizuję w ostatnim dniu wyzwania „Jedna rzecz dziennie dla Twoich potrzeb” i serdecznie zapraszam zarówno osoby\, które w nim uczestniczą\, jak i pozostałe. \nWebinar jest bezpłatny\, wystarczy się zapisać! \n  \nInformacje praktyczne \n\nKiedy: 19 września 2021\, godz. 18:00-19:00\nJak: Spotkamy się przy użyciu aplikacji ZOOM\, która umożliwia wszystkim uczestnikom widzenie się i słyszenie. Aby wziąć udział\, potrzebny Ci będzie komputer/smartfon z dostępem do internetu\, kamerą i mikrofonem. Przygotuj sobie również coś do pisania. Link do spotkania oraz instrukcję\, jak do niego dołączyć\, otrzymasz po zapisaniu się i potwierdzeniu dołączenia do mojego newslettera (sprawdź SPAM i folder OFERTY!).\nZapisy: https://online.empathicway.pl/piekno-twoich-potrzeb-bezplatny-webinar/\nNagrywanie: To spotkanie będzie nagrywane i udostępnione pod warunkiem\, że jakość będzie satysfakcjonująca. Dołącz na żywo\, by go nie przegapić. Planuję dodać to nagranie do moich płatnych produktów oraz wykorzystywać je do celów marketingowych umieszczając w różnych miejscach\, takich jak YouTube\, Facebook\, strona internetowa\, itp. Jeśli nie chcesz być na nagraniu\, miej wyłączoną kamerę i mikrofon przez cały czas trwania webinaru.\n\n\n\n\nProwadząca:\n\n\n\n\n \n\n\n\nMagdalena Malinowska \nJestem certyfikowaną trenerką Porozumienia bez Przemocy (certyfikat CNVC\, USA). Wspieram w budowaniu satysfakcjonującego życia i dobrych relacji\, prywatnych i zawodowych\, poprzez szkolenia indywidualne i grupowe pogłębiające umiejętność skutecznej komunikacji. Inspiruję do szczerego dawania informacji zwrotnych oraz otwartości na perspektywę innych osób. Pomagam we wdrażaniu Porozumienia bez Przemocy (NVC) m.in. w związkach\, firmach i w organizacjach pozarządowych. \nPracuję głównie z osobami\, które pragną czerpać radość i spełnienie z autentycznych relacji z innymi. Chcą doświadczać życia we wszelkich jego aspektach\, nie boją się wyzwań oraz mają odwagę poznawać siebie i innych. \nJeśli jesteś jedną z takich osób\, to zapraszam na moje warsztaty oraz szkolenia indywidualne i sesje coachingowe podczas których pomagam przekuć teorię w praktykę. Zachęcam do małych kroków\, których ostatecznym rezultatem są namacalne efekty. Strona: www.empathicway.pl
URL:https://www.empathicway.pl/wydarzenie/piekno-twoich-potrzeb-bezplatny-webinar/
LOCATION:Online (ZOOM)
ATTACH;FMTTYPE=image/png:https://www.empathicway.pl/wp-content/uploads/2021/09/Webinar-Piekno-Twoich-potrzeb-Empathic-Way.png
END:VEVENT
END:VCALENDAR